BEGIN:VCALENDAR
VERSION:2.0
PRODID:-//eventon.com NONSGML v1.0//EN
CALSCALE:GREGORIAN
METHOD:PUBLISH
BEGIN:VEVENT
UID:69e6131a4edc4
DTSTAMP:20260420T115050
DTSTART:20260206T163000Z
DTEND:20260206T174500Z
TZID:Pacific/Midway
LOCATION:
SUMMARY:Fun Class February 6th 5:30PM-6:45PM
DESCRIPTION: Fun Class February 6th 5:30PM-6:45PM\nhttps://www.louisvillecotkd.com/events/fun-class-february-6th-530pm-645pm/
URL:https://www.louisvillecotkd.com/events/fun-class-february-6th-530pm-645pm/
END:VEVENT
BEGIN:VEVENT
UID:69e6131a4eee4
DTSTAMP:20260420T115050
DTSTART:20250810T020000Z
DTEND:20250810T070000Z
TZID:Pacific/Midway
LOCATION:
SUMMARY:Demonstration Demo team 8/09  Alexander Dawson school Cmplex (All class Cancel School closed)
DESCRIPTION: Demonstration Demo team 8/09  Alexander Dawson school Cmplex (All class Cancel School closed)\nhttps://www.louisvillecotkd.com/events/demonstration-at-stargate-school-2-7-2025-6pm-all-class-cancel/
URL:https://www.louisvillecotkd.com/events/demonstration-at-stargate-school-2-7-2025-6pm-all-class-cancel/
END:VEVENT
BEGIN:VEVENT
UID:69e6131a4efd7
DTSTAMP:20260420T115050
DTSTART:20250118T070000Z
DTEND:20250118T073000Z
TZID:Pacific/Midway
LOCATION:
SUMMARY:Demonstration School of mines Green center  01/17/2025 8PM (All Class Cancel school closed)
DESCRIPTION: Demonstration School of mines Green center  01/17/2025 8PM (All Class Cancel school closed)\nhttps://www.louisvillecotkd.com/events/holloween-schedule-10-31-440pm-children-525pm-all-belt-class/
URL:https://www.louisvillecotkd.com/events/holloween-schedule-10-31-440pm-children-525pm-all-belt-class/
END:VEVENT
BEGIN:VEVENT
UID:69e6131a4f0b0
DTSTAMP:20260420T115050
DTSTART:20250623T150000Z
DTEND:20250627T210000Z
TZID:America/Denver
LOCATION:
SUMMARY:Summer Camp June 23 – 27 2025 9AM-3PM
DESCRIPTION: Summer Camp June 23 &#8211; 27 2025 9AM-3PM\nhttps://www.louisvillecotkd.com/events/summer-camp-june-10-14-2024-9am-3pm/
URL:https://www.louisvillecotkd.com/events/summer-camp-june-10-14-2024-9am-3pm/
END:VEVENT
BEGIN:VEVENT
UID:69e6131a4f18a
DTSTAMP:20260420T115050
DTSTART:20251206T180000Z
DTEND:20251206T220000Z
TZID:America/Denver
LOCATION:
SUMMARY:Color belt testing 12/06 Saturday 11:00AM White\,  Yellow\,  Purple belt  1:00PM Green\,  Blue\,  Brown\,  Red\,  High Red Belt
DESCRIPTION: Color belt testing 12/06 Saturday 11:00AM White\,  Yellow\,  Purple belt  1:00PM Green\,  Blue\,  Brown\,  Red\,  High Red Belt\nhttps://www.louisvillecotkd.com/events/color-belt-testing-7-24-monday-430-pm-white-yellow-purple-belt-600-pm-green-blue-brown-red-high-red/
URL:https://www.louisvillecotkd.com/events/color-belt-testing-7-24-monday-430-pm-white-yellow-purple-belt-600-pm-green-blue-brown-red-high-red/
END:VEVENT
BEGIN:VEVENT
UID:69e6131a4f284
DTSTAMP:20260420T115050
DTSTART:20250830T220000Z
DTEND:20250902T020000Z
TZID:America/Denver
LOCATION:
SUMMARY:School closed 8/30/2025-9/1 Saturday – Monday Happy Labor Day
DESCRIPTION: School closed 8/30/2025-9/1 Saturday &#8211; Monday Happy Labor Day\nhttps://www.louisvillecotkd.com/events/school-picnic-and-demonstration-9-16-2023-1000-am-200-pm-heritage-park/
URL:https://www.louisvillecotkd.com/events/school-picnic-and-demonstration-9-16-2023-1000-am-200-pm-heritage-park/
END:VEVENT
END:VCALENDAR